BEGIN:VCALENDAR
PRODID:-//University of Birmingham//Events//EN
VERSION:2.0
CALSCALE:GREGORIAN
METHOD:PUBLISH
BEGIN:VEVENT
DTSTAMP:20230921T104700Z
DTSTART:20231011T140000Z
DTEND:20231011T160000Z
SUMMARY:10,000 Interns Foundation Information, session
UID:www.birmingham.ac.uk/205350
DESCRIPTION:Find out more about the 10,000 Black and 10,000 Able Interns Programmes and how to apply for Summer 2024 Internships
 We are excited to have special guests from the 10,000 Internships Foundation (partnering with University of Birmingham) visiting us on campus to talk about the Foundation and the programmes they offer. They’ll also be sharing top tips on making your application and you’ll learn about the application support on offer from both the Foundation and Careers Team at UoB.\n
 We’ll also be joined by former interns of the programme who are UoB students / graduates to provide insight into what it’s actually like to apply for and complete an internship on these programmes.\n
 12-1pm - information session\n
 1-2pm - opportunity to chat to the 10,000 Interns team, former interns of UoB, and Careers Network staff. You will be able to ask questions and get further advice on how to get support in applying to these internships.\n
 UoB students and alumni with a bham email address can book online. \n
 For non-students / alumni please contact the event organiser Lisa Donnelly to confirm your attendance. \n \n
LOCATION:Nuffield - Lecture Room G17 (R9 on campus map)
STATUS:CONFIRMED
TRANSP:OPAQUE
CLASS:PUBLIC
END:VEVENT
END:VCALENDAR
