BEGIN:VCALENDAR
PRODID:-//University of Birmingham//Events//EN
VERSION:2.0
CALSCALE:GREGORIAN
METHOD:PUBLISH
BEGIN:VEVENT
DTSTAMP:20131106T171400Z
DTSTART:20131202T090000Z
DTEND:20131206T170000Z
SUMMARY:Guide Dogs for the Blind
UID:www.birmingham.ac.uk/70817
DESCRIPTION:Come along to the Muirhead foyer to learn more about Guide Dogs for the Blind and their work on the University campus. There will be a display in the foyer all week staffed by the local Guide Dogs branch and information on workshops held on campus. This is also a great opportunity to stock up on Christmas cards, wrapping paper and Guide Dog branded stationary. During the week, Guide Dog Trainers and puppy walkers will also be using the campus to train their dogs. \n View accessibility details for this venue. \n
LOCATION:Muirhead Foyer
STATUS:CONFIRMED
TRANSP:OPAQUE
CLASS:PUBLIC
END:VEVENT
END:VCALENDAR
