BEGIN:VCALENDAR
PRODID:-//University of Birmingham//Events//EN
VERSION:2.0
CALSCALE:GREGORIAN
METHOD:PUBLISH
BEGIN:VEVENT
DTSTAMP:20131106T134700Z
DTSTART:20131128T120000Z
DTEND:20131128T130000Z
SUMMARY:Vice-Chancellor David Eastwood: Being Disabled, One Person's Story
UID:www.birmingham.ac.uk/70791
DESCRIPTION:As part of the University's Focus on Disability fortnight, the Vice-Chancellor Professor David Eastwood will be talking about his own personal experience of disability. Join us at the Barber Institute lecture hall for his talk followed by a Q&A session. A light buffet will follow in the Barber foyer.\n This talk is open to all staff and students. To register your interest, please contact Kerrie Hall. \n View accessibility guidance for this venue.\n
LOCATION:Barber Institute Lecture Theatre
STATUS:CONFIRMED
TRANSP:OPAQUE
CLASS:PUBLIC
END:VEVENT
END:VCALENDAR
