BEGIN:VCALENDAR
PRODID:-//University of Birmingham//Events//EN
VERSION:2.0
CALSCALE:GREGORIAN
METHOD:PUBLISH
BEGIN:VEVENT
DTSTAMP:20250211T181500Z
DTSTART:20250306T183000Z
DTEND:20250306T200000Z
SUMMARY:South Asian Women in Cultural Leadership
UID:www.birmingham.ac.uk/212604
DESCRIPTION:A panel of South Asian Women Leaders in the Creative Industries will share their experiences, insights and reflections.\n
 The panel will be chaired by Piali Ray, Director of Sampad Arts.\n
 This event is a collaboration between the University's Culture Forward initiative and Sampad Arts.\n
 Further details to follow.\n
LOCATION:Edgbaston Park Hotel  53 Edgbaston Park Road  Birmingham  B15 2RS
STATUS:CONFIRMED
TRANSP:OPAQUE
CLASS:PUBLIC
END:VEVENT
END:VCALENDAR
