BEGIN:VCALENDAR
PRODID:-//University of Birmingham//Events//EN
VERSION:2.0
CALSCALE:GREGORIAN
METHOD:PUBLISH
BEGIN:VEVENT
DTSTAMP:20240430T163100Z
DTSTART:20240615T090000Z
DTEND:20240615T143000Z
SUMMARY:Sources and Resources for Classics and Ancient History
UID:www.birmingham.ac.uk/208806
DESCRIPTION:Join CAHA and the Birmingham and Midlands Branch of the Classical Association for a day for teachers of Classics and Ancient History, featuring a special lecture by Roman historian and author Emma Southon on 'A Rome of One's Own: Putting Women back into Roman History'.\n
 The day will include a session in our museum on using material culture in teaching, and a session with Alex Orgee on the OCR curriculum review. There will also be opportunities to hear about resources from Classics for All. \n \n
Timetable
 10:00 - 10:20 - Arrival and welcome\n
 10:20 - 11:00 -  Session 1, Option A - Epic poetry: engaging with modern scholarship. Dr Elena Theodorakopoulos\n
 10:20 - 11:00 - Session 1,  Option B - Classics Classroom Resources (Maximum Classics, Word Roots and more! Charlie Andrew\n
 11:10 - 11:50 -  Session 2, Option A - Teaching with Ancient objects. Dr Maeve McHugh\n
 11:10 - 11:50 -  Session 2, Option B -  Engaging students inside and outside the classroom. Sian Squire\n
 11:50 - 12: 30 - Lunch\n
 12:30 - 13:10 - Plenary Speaker, Option A - OCR curriculum review, reforms and scholarship. Alex Orgee\n
 12:30 - 13:10 - Plenary Speaker, Option B- Classics for All: Overcoming Barriers - What help is there for me?\n
 13:10 - 13:50 - Session 3, Option A- Teaching with Ancient Inscriptions. Dr William Mack\n
 13:10 - 13:50 - Session 3, Option B - Ovid in the West Midlands - introducing and engaging students with Greek mythology\n
 14:00 - 14:40 - Session 4, Option A - Sources and Resources for teaching Ancient Rome. Dr Hannah Cornwell\n
 14:00 - 14:40 - Session 4, Option B - Teachers' Roundtable: sharing resources, tips and tricks\n
 14:50 - 15:30 - Final Plenary - A Rome of One's Own: Putting Women back into Roman History. Dr Emma Southon.\n
Cost
 £45 to include lunch and refreshments. Bursaries are available for teachers and trainees in maintained schools. \n For further inquiries and to book a place contact Hebe Barlow at bham.classicsforall@contact.bham.ac.uk\n
LOCATION:University of Birmingham
STATUS:CONFIRMED
TRANSP:OPAQUE
CLASS:PUBLIC
END:VEVENT
END:VCALENDAR
