BEGIN:VCALENDAR
PRODID:-//University of Birmingham//Events//EN
VERSION:2.0
CALSCALE:GREGORIAN
METHOD:PUBLISH
BEGIN:VEVENT
DTSTAMP:20240207T145600Z
DTSTART:20240229T120000Z
DTEND:20240229T130000Z
SUMMARY:Introduction to our Space Engineering Masters programme - Feb
UID:www.birmingham.ac.uk/207642
DESCRIPTION:Join Dr Leah-Nani Alconcel for an introduction to our MSc Space Engineering programme at the University of Birmingham.
LOCATION:Online
STATUS:CONFIRMED
TRANSP:OPAQUE
CLASS:PUBLIC
END:VEVENT
END:VCALENDAR
