BEGIN:VCALENDAR
PRODID:-//University of Birmingham//Events//EN
VERSION:2.0
CALSCALE:GREGORIAN
METHOD:PUBLISH
BEGIN:VEVENT
DTSTAMP:20250113T094700Z
DTSTART:20250212T120000Z
DTEND:20250212T130000Z
SUMMARY:Introduction to MSc Space Engineering
UID:www.birmingham.ac.uk/212166
DESCRIPTION:Join Dr Alconcel for an introduction to Postgraduate opportunities in Space Engineering at Birmingham.\n
 Learn how your study will prepare you to push the boundaries of spacecraft technology and engineering, and provide hands-on, real world experience delivered by our experts.\n
LOCATION:Online
STATUS:CONFIRMED
TRANSP:OPAQUE
CLASS:PUBLIC
END:VEVENT
END:VCALENDAR
